BEGIN:VCALENDAR
VERSION:2.0
PRODID:-//wp-events-plugin.com//7.2.3.1//EN
BEGIN:VEVENT
UID:114@pmi-sic.org
DTSTART;TZID=Europe/Rome:20231108T090000
DTEND;TZID=Europe/Rome:20231109T120000
DTSTAMP:20231017T155610Z
URL:https://www.pmi-sic.org/eventi/sustainability-summit-2023/
SUMMARY:Sustainability Summit 2023
DESCRIPTION:What do you value about Our Planet and its People?  If you wer
 e asked to describe your home landscape\, what would you say?  Which tree
 s\, and which flowers?  Which animals and which insects?  What foods do 
 you like to eat?  Where do you like to go on holiday? And if someone said
  they were going to take that away\, how would you respond? On our current
  trajectory\, many of those things will have been taken away from everyone
  by 2050. Our People and Planet are under threat. Now is the time to ACT.\
 nOn Nov. 8th\, the join us for the first Sustainability Summit organized
  by PMI Chapters across Europe (including UK\, Germany\, Netherlands\, Be
 lgium\, Italy\, Sweden\, Turkey and more). This Summit recognizes the imp
 ortance of putting our PMI value into action - “Together we can”.  Ha
 ve you already registered for the event? Great! If not\, you still have ti
 me to sign up. Here is the link:\n\nWhat can you expect from the event?\nY
 ou will have access to experts speaking on sustainability topics we are fa
 cing from around the world.  We will be able to exchange ideas and be ins
 pired by the energy and insights shared by our panel discussions and talk
 s.\nAfter a keynote talk\, you can choose between three main tracks: Peopl
 e\, Planet and Projects. In the different tracks\, you will have the possi
 bility to delve into focused topics on how we individuals or as part of o
 rganizations can make the difference by fostering sustainability in our be
 haviors\, our industry\, our work and\, ultimately\, how we impact the wor
 ld.\nYou will also have the possibility to gain a deeper view of how proje
 cts can help in sustainability and how we\, as project managers\, can pla
 n our projects with sustainability in mind… Project Management brings to
 gether the “Why”\, the “What” and the “How” to reach such goal
 s.\nSome Event Highlight\nWe are delighted to inform you that Simon King\,
  award-winning naturalist\, conservationist\, filmmaker\, author\, and ar
 tist will give the keynote speech at the grand opening of the Summit.\nTo
 gether with Simon King\, many experts on the sustainability subject will e
 ntertain and inspire you with key messages on People\, Planet and Project
 s. Keen to know more about our renowned experts? Here are just a few names
 :\n\n\n 	Kate Watson\, sustainability expert\, with her input on drive ret
 rofit at scale to achieve net zero homes.\n 	Lela Machaidze\, senior proje
 ct manager\, with her talk on Adaptive Governance for Sustainable Futures 
 Across Stakeholders.\n 	Zak Jones\, sustainability consultant\, showing ho
 w managing sustainable outcomes leads to better management of projects.\n\
 nCheck here for more on our speakers and topics.\n\nAnd we have more waiti
 ng for you. You can also exchange ideas and interact in virtual panels. W
 e will also be live from our main stage in London for part of the event. 
  You can join us live or online for some or all of the event.\nAre you a s
 tudent or young professional\, curious to have new ideas and to propose an
 d challenge your points of view and thoughts? Get in contact with Martin (
 see contact details below) to be part of a hackathon on sustainability.\n
 Are you a project manager or involved in a project? By attending this Sust
 ainability Summit\, you will have a deeper overview on the UN SDGs Goals\,
  and valuable advice for ways to achieve your project goals in a sustainab
 le way.\nWhat about you? Keen to make the difference too? As first action\
 ,\n\n\n 	Enroll in the Sustainability Summit 23.\n 	Share on Social Media 
 with your network.\n 	Join us online or in person on Nov. 8th.\n\nDon’t 
 forget: each action\, even small\, makes a difference Together We Can!  L
 ooking forward to welcoming you on Nov. 8th!
ATTACH;FMTTYPE=image/jpeg:https://www.pmi-sic.org/wp-content/uploads/2023/
 10/Sustainable-Summit-2023.png
CATEGORIES:Convegno
LOCATION:https://hopin.com/events/sustainability-summit-2023
END:VEVENT
BEGIN:VTIMEZONE
TZID:Europe/Rome
X-LIC-LOCATION:Europe/Rome
BEGIN:STANDARD
DTSTART:20231029T020000
TZOFFSETFROM:+0200
TZOFFSETTO:+0100
TZNAME:CET
END:STANDARD
END:VTIMEZONE
END:VCALENDAR