BEGIN:VCALENDAR
VERSION:2.0
PRODID:-//wp-events-plugin.com//7.2.3.1//EN
BEGIN:VEVENT
UID:204@pmi-sic.org
DTSTART;TZID=Europe/Rome:20250919T183000
DTEND;TZID=Europe/Rome:20250919T200000
DTSTAMP:20250912T041837Z
URL:https://www.pmi-sic.org/eventi/storiedipm-live-from-bari-episode-4-dal
 -canada-alla-puglia-il-viaggio-di-una-pm-visionaria-presentazione-progetto
 -vincitore-della-challenge-interateneo/
SUMMARY:#StorieDiPM - Live from Bari - Episode 4: "Dal Canada alla Puglia: 
 il viaggio di una PM visionaria" & Presentazione Progetto vincitore della 
 Challenge Interateneo
DESCRIPTION:Il Branch Puglia continua il suo viaggio alla scoperta dei Proj
 ect Manager del territorio.\nCon l’obiettivo di approfondire la conoscen
 za dei nostri soci e del contesto in cui operano\, l’iniziativa esplora 
 le motivazioni che li hanno spinti verso il Project Management\, le compet
 enze trasversali che li contraddistinguono\, i metodi che adottano e le sf
 ide che affrontano ogni giorno.\nRiprendendo il format delle interviste #
 StorieDiPM della newsletter SIC DIXIT\, l’evento porta queste storie d
 al digitale al palco\, offrendo un’occasione unica per conoscere da vici
 no i protagonisti dei progetti che nascono o si sviluppano nel nostro terr
 itorio\, guidati da PM della nostra comunità.\nDurante questi incontri\, 
 il Project Manager diventa il centro della scena: emergono chiaramente il 
 suo ruolo\, il suo approccio operativo e la sua visione strategica\, aiuta
 ndoci a comprendere meglio lo stato dell’arte del project management nel
 le realtà aziendali locali. Nel terzo appuntamento ospitiamo Laura Cocuzz
 i\, protagonista di un viaggio straordinario dal Canada alla Puglia. La su
 a storia è un racconto di trasformazione\, coraggio e ritorno alle origin
 i\, che ci ispirerà e ci farà riflettere.\nNon perdere l’occasione di 
 ascoltarla dal vivo: ti aspettiamo in platea!\nA seguire\, sarà presentat
 o il progetto vincitore dell’ultima CHALLENGE INTERATENEO\, con la prem
 iazione del team composto da tre studenti\, guidati dalla Prof.ssa Debor
 a Sarno. Un momento dedicato all’innovazione e al talento delle nuove ge
 nerazioni.\nAgenda dell’incontro\nOre 18:30 Benvenuto e registrazione pa
 rtecipanti\nOre 18:45 Episode 3: Incontriamo Laura Cocuzzi\, PMP\nOre 19:1
 5 Q&amp\;A\n---\nOre 19:30 Presentazione del Progetto vincitore Challenge 
 Inter-Ateneo da parte degli studenti dell'Università Parthenope di Napol
 i\nOre 19:50 Q&amp\;A\n---\n\nSPEAKER: Laura Cocuzzi\, NISCL-CSCL/CSCMP\, 
 MCIPS\, PMP\nLaura Cocuzzi è un’esperta riconosciuta nella supply cha
 in e nel project management\, fondatrice di LC Business Innovations e 
 professionista certificata (NISCL-CSCL/CSCMP\, MCIPS\, PMP).\nCon oltre 2
 0 anni di esperienza internazionale\, ha ricoperto ruoli di leadership\, t
 ra cui quello di Consigliere di Amministrazione in Canada\, ed è una rel
 atrice apprezzata nel settore.\nIl suo percorso\, da Toronto (Canada) a
  Otranto (Puglia)\, è una storia di trasformazione personale\, determina
 zione e fiducia in una guida universale che l’ha riportata alle sue radi
 ci italiane. Questo viaggio sarà al centro della sua testimonianza durant
 e la sessione dell’evento del 19 settembre.\nLaura è un partner strat
 egico per i leader aziendali\, specializzata nel massimizzare il ritorno s
 ull’impatto. È nota per la sua capacità di comprendere rapidamente pro
 cessi complessi e sfide organizzative\, collaborando con i vertici azienda
 li per sviluppare strategie ad alto valore aggiunto. Le sue iniziative spa
 ziano da:\n\n\n 	sviluppo aziendale e avvio di nuovi PMO\,\n 	creazione di
  programmi di performance management per i fornitori\,\n 	progettazione di
  modelli innovativi di approvvigionamento\,\n 	consolidamento dei fornitor
 i e modernizzazione tecnologica.\n\nHa inoltre supportato enti pubblici ne
 lla pianificazione pluriennale degli investimenti e nella realizzazione di
  infrastrutture per i servizi sociali.\nAppassionata di formazione\, Laura
  è docente nel programma di Supply Chain Management dell’Humber Colleg
 e (Ontario) e tutor per studenti dell’Humber College\, dell’Universit
 à di Toronto\, nonché per professionisti affiliati al Project Managemen
 t Institute (PMI) e al National Institute of Supply Chain Leaders (NISCL
 ).\n\n---\nLa partecipazione all’evento permette di acquisire 0\,5 PDU 
 di tipo Power Skills e 0\,5 PDU di tipo Business Acumen valida ai fini del
  mantenimento delle certificazioni rilasciate dal PMI.\nLa partecipazione\
 , soltanto in presenza\, è aperta a tutti\, previa iscrizione attraverso 
 il relativo link riportato sul sito del PMI Southern Italy Chapter. La co
 nsumazione sarà a carico dei partecipanti\, ma sarà concordato un pacche
 tto a prezzo fisso con il locale che ci ospiterà.\nDopo la fruizione dell
 ’evento il partecipante potrà sottomettere autonomamente la richiesta d
 i PDU direttamente nella sezione Report PDUs della propria area personale 
 del sito del PMI con il PDU Claim Code che gli sarà fornito direttamente 
 durante l’evento. \nPer qualsiasi richiesta di chiarimento in merito al
  claim delle PDU si prega di inviare una email all’indirizzo certificaz
 ione@pmi-sic.org.\nPer informazioni: eventi@pmi-sic.org – www.pmi-sic
 .org\n\n&nbsp\;\n\n&nbsp\;
ATTACH;FMTTYPE=image/jpeg:https://www.pmi-sic.org/wp-content/uploads/2025/
 07/project-management.jpeg
CATEGORIES:Branch Puglia
LOCATION:UniBa presso “Ex Palazzo Poste”\, Piazza Cesare Battisti\, 1\,
  Bari\, BA\, 70122\, Italia
GEO:41.12058;16.868457
X-APPLE-STRUCTURED-LOCATION;VALUE=URI;X-ADDRESS=Piazza Cesare Battisti\, 1\
 , Bari\, BA\, 70122\, Italia;X-APPLE-RADIUS=100;X-TITLE=UniBa presso “Ex
  Palazzo Poste”:geo:41.12058,16.868457
END:VEVENT
BEGIN:VTIMEZONE
TZID:Europe/Rome
X-LIC-LOCATION:Europe/Rome
BEGIN:DAYLIGHT
DTSTART:20250330T030000
TZOFFSETFROM:+0100
TZOFFSETTO:+0200
TZNAME:CEST
END:DAYLIGHT
END:VTIMEZONE
END:VCALENDAR