BEGIN:VCALENDAR
VERSION:2.0
PRODID:-//wp-events-plugin.com//7.2.3.1//EN
BEGIN:VEVENT
UID:192@pmi-sic.org
DTSTART;TZID=Europe/Rome:20250405T100000
DTEND;TZID=Europe/Rome:20250405T123000
DTSTAMP:20250320T172951Z
URL:https://www.pmi-sic.org/eventi/sicilia-on-the-road-colazione-con-il-br
 anch-seconda-tappa-palermo/
SUMMARY:Sicilia on the road: colazione con il Branch – Seconda tappa @Pal
 ermo
DESCRIPTION:Sabato 5 aprile 2025\, il Branch Sicilia propone a Palermo una 
 colazione/brunch dedicata a soci e volontari attivi.  Ci incontreremo per
 :\n\n\n 	riprendere le attività pianificate nel Branch Charter 2024 e con
 dividere le attività previste per l’anno 2025\, favorendo il coinvolgim
 ento di tutti i soci e volontari siciliani\, per migliorare l’efficacia 
 del Branch Sicilia.\n 	assistere all’intervento che terrà l’Ing. Mari
 a Grillo\, Consigliere tesoriere dell’Ordine degli Ingegneri della provi
 ncia di Palermo (Esperta in Project Management)\, sul tema “Il project m
 anagement nella gestione dei progetti Transizione 5.0”\n 	trascorrere qu
 alche ora insieme per fare networking e confrontarci.\n\nLa partecipazione
  all’evento\, prevista esclusivamente in presenza\, è aperta a tutti. L
 a consumazione sarà a carico dei partecipanti.\nA questo evento @Palermo 
 seguiranno in aprile ’25 altre colazioni nelle province siciliane\, con 
 lo scopo di conoscerci meglio di persona\, divulgare e ampliare quanto gi
 à proposto durante l’evento del 1° marzo 2025.\nSPEAKER\nD.ssa Cinzia 
 Marcellino\, Responsabile Branch Sicilia\, PMI-SIC\nIng. Maria Grillo\, Co
 nsigliere tesoriere dell’Ordine degli Ingegneri della provincia di Paler
 mo \n---\n\nL'incontro si terrà presso il Bar Pasticceria Salvo Albicocc
 o\, Viale Strasburgo\, 121 – Palermo.\n\n---\n\n\nLa partecipazione all
 ’evento permette di acquisire 0.25 PDU di tipo Ways of Working e 0.5 PDU
  di tipo Business Acumen valide ai fini del mantenimento delle certificazi
 oni rilasciate dal PMI.\nLa partecipazione è aperta a tutti e gratuita\, 
 previa iscrizione attraverso il relativo link riportato sul sito del PMI S
 outhern Italy Chapter.\nDopo la fruizione dell’evento il partecipante po
 trà sottomettere autonomamente la richiesta di PDU direttamente nella sez
 ione Report PDUs della propria area personale del sito del PMI con il PDU 
 Claim Code che gli sarà fornito direttamente durante l’evento.\n\n\n\n\
 nPer qualsiasi richiesta di chiarimento in merito al claim delle PDU si pr
 ega di inviare una e-mail all’indirizzo certificazione@pmi-sic.org.\nSi 
 invita a prestare particolare attenzione alla compilazione del campo PMI m
 ember ID\, sempre modificabile nel proprio profilo utente\, in quanto faco
 ltativo.\n\n\nPer informazioni: eventi@pmi-sic.org – www.pmi-sic.org
ATTACH;FMTTYPE=image/jpeg:https://www.pmi-sic.org/wp-content/uploads/2025/
 03/Palermo-copia.png
CATEGORIES:Branch Sicilia
LOCATION:Bar Pasticceria Salvo Albicocco\, Viale Strasburgo\, 121\, Palermo
 \, 90141\, Sicilia\, Italia
GEO:38.152875;13.330609
X-APPLE-STRUCTURED-LOCATION;VALUE=URI;X-ADDRESS=Viale Strasburgo\, 121\, Pa
 lermo\, 90141\, Sicilia\, Italia;X-APPLE-RADIUS=100;X-TITLE=Bar Pasticceri
 a Salvo Albicocco:geo:38.152875,13.330609
END:VEVENT
BEGIN:VTIMEZONE
TZID:Europe/Rome
X-LIC-LOCATION:Europe/Rome
BEGIN:DAYLIGHT
DTSTART:20250330T030000
TZOFFSETFROM:+0100
TZOFFSETTO:+0200
TZNAME:CEST
END:DAYLIGHT
END:VTIMEZONE
END:VCALENDAR