BEGIN:VCALENDAR
VERSION:2.0
PRODID:-//wp-events-plugin.com//7.2.3.1//EN
BEGIN:VEVENT
UID:199@pmi-sic.org
DTSTART;TZID=Europe/Rome:20250531T093000
DTEND;TZID=Europe/Rome:20250531T121500
DTSTAMP:20250528T154012Z
URL:https://www.pmi-sic.org/eventi/sicilia-on-the-road-colazione-con-il-br
 anch-quinta-tappa-catania/
SUMMARY:Sicilia on the road: colazione con il Branch – Quinta tappa @Cata
 nia
DESCRIPTION:Sabato 31 Maggio 2025\, il Branch Sicilia propone a Catania una
  colazione/brunch dedicata a soci e volontari attivi\; l'incontro si terr
 à presso il Bar La Posada\, Via Antonello da Messina 32 – Aci Castello 
 (CT). Ci incontreremo per:\n\n\n 	fissare data\, location\, contenuti e fo
 rmat del prossimo evento annuale di Branch Sicilia da tenersi a inizio aut
 unno 2025\;\n 	riprendere le attività già pianificate nel Branch Charter
  2024 e condividere le attività previste per l’anno 2025\, favorendo il
  coinvolgimento dei soci e volontari siciliani afferenti alle province di 
 Catania\, Palermo\, Messina\, Ragusa\, Siracusa\, Caltanissetta\, Enna\, A
 grigento\, Trapani\;\n 	assistere all’intervento che terrà il Dr. Loren
 zo Vetrano (Disciplined Agile Chapter Champion del PMI-SIC): “LEGO Serio
 us Play: risultati attesi\, la visione di ciò che vogliamo ottenere vs. c
 ome intendiamo raggiungerlo”\;\n 	trascorrere qualche ora insieme per fa
 re networking e confrontarci.\n\nAgenda dell’incontro\n9:30 – 9:45 I i
 ncontro partecipanti presso il Bar la Posada e colazione insieme\n\n9:45 -
  10:45 I intervento in presenza “LEGO Serious Play: risultati attesi\, l
 a visione di ciò che vogliamo ottenere vs. come intendiamo raggiungerlo
 ”\n\n10:45 – 12:00 I collegamento da remoto (ZOOM) per fare uno status
  a metà anno sulle iniziative del Branch già iniziate\, dare visibilità
  a tutti sulle iniziative future e coinvolgere infine tutti i soci e volon
 tari del Branch Sicilia nell’organizzazione del prossimo evento annuale 
 di Branch da tenersi ad inizio autunno 2025.\n\n&nbsp\;\n\n*La partecipazi
 one all’evento\, prevista sia in presenza sia da remoto\, è aperta a tu
 tti.\n**La consumazione per i partecipanti in presenza sarà a carico dei 
 partecipanti.
ATTACH;FMTTYPE=image/jpeg:https://www.pmi-sic.org/wp-content/uploads/2025/
 05/ACICastello.webp
CATEGORIES:Branch Sicilia
LOCATION:BAR LA POSADA\, Via Antonello da Messina 32\, AciCastello \, CT\, 
 95021\, Italia
GEO:37.541336;15.13591
X-APPLE-STRUCTURED-LOCATION;VALUE=URI;X-ADDRESS=Via Antonello da Messina 32
 \, AciCastello \, CT\, 95021\, Italia;X-APPLE-RADIUS=100;X-TITLE=BAR LA PO
 SADA:geo:37.541336,15.13591
END:VEVENT
BEGIN:VTIMEZONE
TZID:Europe/Rome
X-LIC-LOCATION:Europe/Rome
BEGIN:DAYLIGHT
DTSTART:20250330T030000
TZOFFSETFROM:+0100
TZOFFSETTO:+0200
TZNAME:CEST
END:DAYLIGHT
END:VTIMEZONE
END:VCALENDAR