BEGIN:VCALENDAR
VERSION:2.0
PRODID:-//wp-events-plugin.com//7.2.3.1//EN
BEGIN:VEVENT
UID:194@pmi-sic.org
DTSTART;TZID=Europe/Rome:20250527T183000
DTEND;TZID=Europe/Rome:20250527T193000
DTSTAMP:20250503T054329Z
URL:https://www.pmi-sic.org/eventi/program-managementwork-i-nuovi-performa
 nce-domain-in-azione/
SUMMARY:PROGRAM MANAGEMENT@WORK - I nuovi performance domain  in azione
DESCRIPTION:Prosegue l’impegno del Comitato Standard Interchapter per off
 rire ai soci incontri e attività di approfondimento degli standard del PM
 I\, raccontarne casi d’uso\, promuovere il confronto tra gli standard de
 l PMI e quelli di altre associazioni e organizzazioni\, costituire un punt
 o di riferimento per l’approfondimento della conoscenza degli stessi sia
  per i singoli Project-Program-Portfolio Manager che per le aziende.  \nD
 i cosa si parlerà durante questo nuovo appuntamento?\nA marzo 2024 il PMI
  ha pubblicato la nuova edizione (5th Eidtion) di THE STANDARD FOR PROGRAM
  MANAGEMENT\, rinnovando la precedente edizione del 2017. Il nostro Comita
 to ha approfondito il nuovo standard e ne ha illustrato le caratteristiche
  principali (principi\, performance domain\, attività\, ruolo del program
  manager\, ...) nel webinar tenuto lo scorso12 novembre 2024.\nIn questo i
 ncontro tre program manager - Maria Cristina Barbero\, Alberto Cominelli e
  Pier Luigi Guida - racconteranno la loro esperienza di gestione di progra
 mmi complessi in ambito Digital Transformation e Construction. Ogni interv
 ento avrà un focus specifico su uno dei sei performance domain definiti n
 ello standard e precisamente Governance framework\, Stakeholder engagement
 e e Life cycle management\, evidenziando quali elementi hanno dato il magg
 ior contribuito alla gestione dei programmi “sul campo”.\nL’introduz
 ione e la sessione finale di Domande &amp\; Risposte saranno guidate dai r
 elatori del webinar di novembre 2024 Andrea Innocenti\, Cinzia Pellegrino 
 e Andrea Peruzzi.\nLa partecipazione è aperta a tutti e gratuita.\nRegist
 rati a questo link: Link di registrazione\nLe PDU saranno attribuite entro
  due settimane automaticamente dal Chapter ai ‘Partecipanti’ che hanno
  indicato il PMI ID in fase di iscrizione.\nPDU previste:\n\n\n 	PDU WoW: 
 0.5\n 	PDU Power Skills: 0.0\n 	PDU Business Acumen:  0.5\n\nPer partecip
 are è necessario avere una connessione internet\, un PC con Windows\, un 
 MAC\, un IPAD oppure un tablet/telefono Android. La sola connessione telef
 onica non consente di rilevare la partecipazione e di conseguenza assegnar
 e delle PDU e dei CFP. Se si desidera utilizzare tale modalità\, è neces
 sario selezionare “usa telefono”.\nSPEAKER\n\nMaria Cristina Barbero\,
  PgMP®\, PMP®\,è Senior Program Manager in programmi di trasformazione 
 IT e consulente direzionale sui temi del PMO e del Resource Capacity Manag
 ement. Laureata in Matematica\, MBA c/o UOP\, ha un significativo backgrou
 nd come system developer. Con 15 anni di esperienza come coordinatore dell
 a formazione di project management in aziende\, è referente della formazi
 one base di project management al Master di Project Management e Gestione 
 dell’Innovazione all’Università di Padova. È certificata PgMP®\, PM
 P®\, PMI-ACP®\, PMO CP®\, CSM. È coordinatrice del Comitato Standard I
 nterchapter.\nAlberto Cominelli è Head of Project Management di CBRE Ital
 y. Ha un’esperienza ventennale nel settore del project management in amb
 ito Real Estate e construction.\nPier Luigi Guida\, ingegnere specializzat
 o in informatica\, già dirigente di società pubblica di rilevanza nazion
 ale\, è stato project e program manager di progetti internazionali nonch
 é referente di progetto (RUP). Formatore e consulente di project manageme
 nt\, docente universitario a contratto\, è coordinatore del comitato UNI 
 sul project management e membro del Comitato ISO TC258. È  certificato P
 RINCE2\, ISIPM AV\, PMP®\, PgMP® \, UNI 11648 project manager\, BIM Mana
 ger. Assessor per la certificazione UNI 11648 e per la maturità organizza
 tiva (ISIPM-Prado)\, è direttore scientifico della rivista Il Project Man
 ager e autore di numerosi articoli  e diversi testi\, fra cui “Il Proje
 ct Management secondo le Norme UNI ISO 21500 e 21502” (FrancoAngeli).
ATTACH;FMTTYPE=image/jpeg:https://www.pmi-sic.org/wp-content/uploads/2025/
 04/1.jpeg
CATEGORIES:Webinar
LOCATION:https://www.pmi-centralitaly.org/pmici-events/pm-cross-sharing-dev
 elopment-day-397-689/
END:VEVENT
BEGIN:VTIMEZONE
TZID:Europe/Rome
X-LIC-LOCATION:Europe/Rome
BEGIN:DAYLIGHT
DTSTART:20250330T030000
TZOFFSETFROM:+0100
TZOFFSETTO:+0200
TZNAME:CEST
END:DAYLIGHT
END:VTIMEZONE
END:VCALENDAR