BEGIN:VCALENDAR
VERSION:2.0
PRODID:-//wp-events-plugin.com//7.2.3.1//EN
BEGIN:VEVENT
UID:17@pmi-sic.org
DTSTART;TZID=Europe/Rome:20211222T172500
DTEND;TZID=Europe/Rome:20211222T183000
DTSTAMP:20211221T081449Z
URL:https://www.pmi-sic.org/eventi/pm-skills-for-life-on-web-presentation-
 to-pmi-turkey-volunteers/
SUMMARY:PM Skills For Life On WEB ~ Presentation to PMI Turkey Volunteers ~
DESCRIPTION:22 December 2021\, from 17:25 to 18:30\, will be held the webin
 ar of presentation of PMS4L WEB\n[English Language]\n\n&nbsp\;\n\n\n\nThe 
 webinar will be the 3rd edition of presentation of PMS4L WEB\, a distance 
 learning version of seminar PM Skills for Life of PMI-SIC\; it is an adapt
 ation of PMIEF resourse\, in flipped classroom way\, held to about 4.000 s
 tudents from over 100 high school in Campania Region.\n\nThe main target a
 udience of the webinar are the PMI Turkey volunteers who in the coming wee
 ks will start to hold the seminars PMS4L WEB in the schools of their count
 ry.\n\nThe partnership between PMI-SIC and PMI Turkey was promoted by Ceyh
 un Küçük (liason PMIEF) and Giuseppe Cocozza with the involvement of De
 niz Cabadak\, Ahmet Fatih Ak\, Aybüke Aslantaş\, Andrea Masone and Danil
 o d'Amato.\n\nCeyhun and Deniz joined the seminar held in May 2021 at the 
 G. Marconi High School in Nocera Inferiore.\n\nPMI Turkey volunteers will 
 use the PMS4L WEB training material translated into English by PMI-SIC in 
 their lessons.\n\n&nbsp\;\n\nThe scope of webinar is: Illustrate the didac
 tic material to the participants in order to enable them to carry out the 
 2 lessons of the PMS4L WEB seminar.\n\nThe webinar is extended to every me
 mber of the 2 chapters in order to collect the membership of other volunte
 ers for the seminars that will take place in Italian and Turkish schools.\
 n\nYou can download the event poster.\n\n&nbsp\;\n\nThe participation to t
 he event allows to acquire n.1 PDU of Strategic type valid for the mainten
 ance of the certifications issued by PMI.\n\nParticipation is open to all 
 and free of charge.\n\nFor PMI-SIC\, PMI-NIC\, PMI-CIC and PMI Turkey memb
 ers the certificate issuance and the PDU registration will be free and it 
 will be automatically sent within 2 weeks from the end of the event after 
 the PMI ID field has been correctly filled in when registering to the webs
 ite.\n\nPlease pay particular attention to the PMI member ID field\, alway
 s modifiable in your user profile\, as it is optional.\n\nATTENTION: it is
  possible to follow the webinar also exclusively in audio via telephone co
 nnection\, but in this case the PDUs will not be recognized as the technol
 ogical platform does not track the participation. PDUs will be issued only
  to those who follow the webinar for at least half of its duration.\nOur h
 ope is to attract new volunteers and spread it to other regions.
ATTACH;FMTTYPE=image/jpeg:https://www.pmi-sic.org/wp-content/uploads/2021/
 11/LOGO_PMS4L_WEB-Rel1.jpg
CATEGORIES:Webinar
END:VEVENT
BEGIN:VTIMEZONE
TZID:Europe/Rome
X-LIC-LOCATION:Europe/Rome
BEGIN:STANDARD
DTSTART:20211031T020000
TZOFFSETFROM:+0200
TZOFFSETTO:+0100
TZNAME:CET
END:STANDARD
END:VTIMEZONE
END:VCALENDAR