BEGIN:VCALENDAR
VERSION:2.0
PRODID:-//wp-events-plugin.com//7.2.3.1//EN
BEGIN:VEVENT
UID:190@pmi-sic.org
DTSTART;TZID=Europe/Rome:20250411T100000
DTEND;TZID=Europe/Rome:20250411T120000
DTSTAMP:20250308T124337Z
URL:https://www.pmi-sic.org/eventi/pensieri-ribelli-don-chisciotte-la-lead
 ership-della-quasi-vittoria/
SUMMARY:Pensieri Ribelli - Don Chisciotte\, la leadership della quasi vitto
 ria
DESCRIPTION:Sellalab con FederManager Salerno e PMI Southern Italy Chap
 ter - Branch Campania presenta un incontro unico dedicato alla leadership 
 ispirato alla figura di Don Chisciotte\, il cavaliere errante simbolo dell
 a resilienza\, della visione e del coraggio di affrontare le sfide anche c
 ontro ogni previsione.\nSpeaker\nProf. Beppe Carrella – Autore e manage
 r con esperienza internazionale\, noto per il suo approccio innovativo all
 a leadership e alla gestione del cambiamento.\nManager cresciuto nel mondo
  ICT\, CEO di diverse aziende di questo settore in Italia e all’estero. 
 Fondatore di BCLAB e docente in diverse Università italiane e straniere. 
 Autore di numerosi testi sulla leadership tra i quali: 2016 - Pinocchio: l
 a Leadership senza Bugie\, 2017 - Don Chisciotte: la Leadership della quas
 i vittoria\, 2018 - Amleto: un leader senza Leadership\, 2019 - con Fabio 
 degli Esposti: “Parlane pure con il mio   robot... ma gli androidi fan
 no le spremute con l’arancia meccanica?”\nLocandina\nProgramma\nSaluti
  istituzionali\n\n 	Giuseppe Noschese Open Innovation Specialist Sellalab
  – Roberto Granese Responsabile Economia Digitale Campania Banca Sella
 \n 	Ing. Armando Indennimeo – Presidente Federmanager Salerno / Presi
 dente Assidai\n 	Ing. Edoardo Grimaldi – Presidente PMI Southern Ital
 y Chapter / Senior Project Manager IBM Italia\n 	Ing. Antonio Carucci 
 – Direttore Croce Rossa Italiana – Comitato di Salerno\n\nKeynote Spee
 ch\n“Don Chisciotte: la leadership della quasi vittoria” – Prof. Bep
 pe Carrella\nCosa può insegnarci Don Chisciotte sulla leadership?\nViviam
 o in un mondo dove il pragmatismo e il conformismo sembrano le chiavi del 
 successo\, eppure alcuni leader scelgono di inseguire sogni impossibili\, 
 affrontando sconfitte con la determinazione di chi sa che ogni battaglia p
 ersa può essere un passo avanti verso un obiettivo più grande. Durante q
 uesto incontro esploreremo:\n\n 	il valore della quasi-vittoriae il suo im
 patto sulla leadership moderna\n 	come trasformare le sconfitte in crescit
 apersonale e professionale\n 	il ruolo dell’immaginazione e del coraggio
 nel guidare persone e progetti\n\n☕ 11:00 – Networking Coffee Break\, 
 un’occasione per confrontarsi\, stringere nuove connessioni e discutere 
 delle idee emerse durante l’evento.\n\nA chi è rivolto e perché partec
 ipare?\nL’evento è pensato per manager\, imprenditori\, professionisti
  e studenti che vogliono esplorare la leadership da una prospettiva non c
 onvenzionale. Don Chisciotte diventa il simbolo di chi sceglie di insegui
 re sogni e ideali nonostante le avversità\, offrendo spunti preziosi per 
 chi guida persone\, progetti e organizzazioni.\nPartecipare significa:✔ 
 capire il valore della resilienza e della visione nella leadership modern
 a✔ imparare a trasformare le difficoltà in opportunità di crescita✔
  connettersi con una rete di professionisti e leader del settore✔ scop
 rire un nuovo approccio alla leadership\, più autentico e ispirazionale\n
 In un mondo dove il successo sembra misurarsi solo in risultati immediati\
 , questo incontro invita a riflettere sul potere della determinazione\, d
 ella creatività e del coraggio nel guidare il cambiamento.\n\nCon il supp
 orto di:\n\n\n 	Ing. Danilo d’Amato – Founder &amp\; Director at Dolph
 y Consulting / Project Manager Professional / Energy &amp\; Sustainability
  Manager / PMI-SIC Campania Branch Chair\n 	Dott. Francesco Maria Galletto
  – Marketing &amp\; Sales Advisor at NUVUN / Consigliere Federmanager S
 alerno con delega al Marketing e Comunicazione / Responsabile Eventi Area 
 Salerno PMI-SIC Campania Branch\n\n---\nL’evento si terrà in presenza p
 resso la sede di Sellalab in Corso Giuseppe Garibaldi\, 203\, Salerno.\n\n
 Per partecipare è necessario registrarsi al seguente link: ISCRIVITI\n---
 \n\n\nLa partecipazione all’evento permette di acquisire 1 PDU di tipo P
 ower Skills e 1 PDU di tipo Business Acumen valide ai fini del manteniment
 o delle certificazioni rilasciate dal PMI.\nLa partecipazione è aperta a 
 tutti e gratuita\, previa iscrizione attraverso il relativo seguente link:
  ISCRIVITI\nDopo la fruizione dell’evento il partecipante potrà sottome
 ttere autonomamente la richiesta di PDU direttamente nella sezione Report 
 PDUs della propria area personale del sito del PMI con il PDU Claim Code c
 he gli sarà fornito direttamente durante l’evento.\n\n\n\n\nPer qualsia
 si richiesta di chiarimento in merito al claim delle PDU si prega di invia
 re una e-mail all’indirizzo certificazione@pmi-sic.org.\nSi invita a pre
 stare particolare attenzione alla compilazione del campo PMI member ID\, s
 empre modificabile nel proprio profilo utente\, in quanto facoltativo.\n\n
 \nPer informazioni: eventi@pmi-sic.org – www.pmi-sic.org
ATTACH;FMTTYPE=image/jpeg:https://www.pmi-sic.org/wp-content/uploads/2025/
 03/don-chisciotte-2.jpg
CATEGORIES:Branch Campania
LOCATION:Sellalab Salerno\, Corso Giuseppe Garibaldi\, 203\, Salerno\, SA\,
  84100\, Italia
GEO:40.676305;14.764803
X-APPLE-STRUCTURED-LOCATION;VALUE=URI;X-ADDRESS=Corso Giuseppe Garibaldi\, 
 203\, Salerno\, SA\, 84100\, Italia;X-APPLE-RADIUS=100;X-TITLE=Sellalab Sa
 lerno:geo:40.676305,14.764803
END:VEVENT
BEGIN:VTIMEZONE
TZID:Europe/Rome
X-LIC-LOCATION:Europe/Rome
BEGIN:DAYLIGHT
DTSTART:20250330T030000
TZOFFSETFROM:+0100
TZOFFSETTO:+0200
TZNAME:CEST
END:DAYLIGHT
END:VTIMEZONE
END:VCALENDAR