BEGIN:VCALENDAR
VERSION:2.0
PRODID:-//wp-events-plugin.com//7.2.3.1//EN
BEGIN:VEVENT
UID:37@pmi-sic.org
DTSTART;TZID=Europe/Rome:20220518T183000
DTEND;TZID=Europe/Rome:20220518T193000
DTSTAMP:20220516T074004Z
URL:https://www.pmi-sic.org/eventi/intelligenza-artificiale-i-confini-uman
 i-e-i-confini-della-tecnologia/
SUMMARY:Intelligenza Artificiale — I confini umani e i confini della tecn
 ologia
DESCRIPTION:Continua la serie di eventi del PMI Southern Italy Chapter sull
 ’Intelligenza Artificiale come strumento a servizio del project manageme
 nt. In questo secondo webinar sarà affrontato il tema dell’IA non solo 
 come supporto al lavoro del Project Manager ma si spronerà tutti a riflet
 tere – in modo aperto e trasparente – sui diversi aspetti della vita l
 avorativa e di quella personale.\n\nL'Intelligenza Artificiale è intorno 
 a noi\, condiziona le nostre interazioni\, le nostre relazioni\, le nostre
  scelte di acquisto\, il nostro tempo e la nostra quotidianità in modo si
 lente. Spesso senza che ce ne rendiamo conto. Nonostante le tante opportun
 ità che “questa tecnologia” mette a disposizione\, in molti iniziano 
 a porsi delle domande su come impostare dei limiti affinché non sia la te
 cnologia a controllare l’individuo ma resti l’essere umano artefice de
 l proprio destino.\n\nFino a dove possono spingersi gli algoritmi? Quali s
 ono i confini tecnologici ed etici? L’AI semplifica\, velocizza\, riduce
  i costi. Non c’è dubbio. Un Project Manager può focalizzarsi su task 
 critici mentre un assistente virtuale lo aiuta a gestire il progetto. Può
 \, però\, l’automazione essere spinta a un punto tale che le relazioni 
 umane passino in secondo piano\, che una risorsa del progetto venga assegn
 ata a un task sulla base delle performance e di KPI realizzati in progetti
  precedenti tralasciando del tutto le emozioni\, la personale condizione e
 xtra-lavorativa\, il desiderio di crescita\, la necessità di imparare e v
 edere qualcosa di diverso?\n\nDomande\, queste\, che si riferiscono a un a
 mbito complesso e tutt’oggi ancora poco esplorato\, alle quali si prover
 à a dare delle risposte con lo speaker del webinar\, Alberto Chierici.\n\
 n&nbsp\;\n\nPer ulteriori informazioni\, si rimanda alla locandina dell'ev
 ento.\n\n&nbsp\;\n\nLa partecipazione all’evento permette di acquisire 0
 .5 PDU di tipo Strategic e 0.5 PDU di tipo Leadership valida ai fini del m
 antenimento delle certificazioni rilasciate dal PMI.\nLa partecipazione 
 è aperta a tutti e gratuita\, previa iscrizione attraverso il relativo li
 nk riportato sul sito del PMI Southern Italy Chapter.\n\nLa registrazione 
 delle PDU avverrà automaticamente entro 3 settimane dal termine dell'even
 to previa compilazione corretta del campo PMI ID all'atto di registrazione
  all’evento. Si invita a prestare particolare attenzione alla compilazio
 ne del campo PMI member ID\, sempre modificabile nel proprio profilo uten
 te\, in quanto facoltativo.\n\nATTENZIONE: è possibile seguire il webina
 r anche esclusivamente in audio via collegamento telefonico\, ma in questo
  caso non potranno essere riconosciute le PDU in quanto la piattaforma tec
 nologica non traccia la partecipazione. Le PDU verranno rilasciate solo a
  chi segue il webinar per almeno la metà della sua durata.
ATTACH;FMTTYPE=image/jpeg:https://www.pmi-sic.org/wp-content/uploads/2022/
 05/2.jpg
CATEGORIES:Webinar
LOCATION:https://us02web.zoom.us/j/89307766576?pwd=VFVXVzQwbmVyeW1ZOEFMVExQ
 ZmZOUT09
END:VEVENT
BEGIN:VTIMEZONE
TZID:Europe/Rome
X-LIC-LOCATION:Europe/Rome
BEGIN:DAYLIGHT
DTSTART:20220327T030000
TZOFFSETFROM:+0100
TZOFFSETTO:+0200
TZNAME:CEST
END:DAYLIGHT
END:VTIMEZONE
END:VCALENDAR