BEGIN:VCALENDAR
VERSION:2.0
PRODID:-//wp-events-plugin.com//7.2.3.1//EN
BEGIN:VEVENT
UID:134@pmi-sic.org
DTSTART;TZID=Europe/Rome:20240228T180000
DTEND;TZID=Europe/Rome:20240228T200000
DTSTAMP:20240224T171144Z
URL:https://www.pmi-sic.org/eventi/il-project-management-per-lo-sviluppo-d
 ei-progetti-cinematografici/
SUMMARY:Il Project Management per lo sviluppo dei progetti cinematografici
DESCRIPTION:Una delle caratteristiche che più rende affascinante la metodo
 logia del Project Management è la sua trasversalità: l’infinita gamma
  di possibili applicazioni in ogni settore.\nSiamo abituati a considerare 
 l’arte come un mondo a parte\, un momento di ispirazione che si traduce 
 quasi inevitabilmente e senza alcuna “difficoltà” nella realizzazione
  di un’opera. Eppure\, questa trasposizione dal mondo delle idee\, da ci
 ò che è in potenza\, al mondo delle azioni\, a ciò che è in atto\, non
  può avvenire se non gestita adeguatamente. Anche dal punto di vista etim
 ologico\, il termine “arte” deriva dalla radice ariana “ar-“ che 
 in sanscrito significa andare verso\, fare\, produrre. E per lungo tempo\,
  essa ha conservato l’accezione pratica: abilità in un'attività produt
 tiva\, la capacità di fare armonicamente\, in maniera adatta. Del resto\,
  l’artigiano è colui che esercita un’attività per la produzione di b
 eni\, tramite il lavoro manuale proprio e di un numero limitato di lavoran
 ti\, svolta generalmente in una bottega.\nEcco che ritornano molti dei con
 cetti familiari a chi si occupa di Project Management e di progetti. La fi
 gura del Project Manager\, dunque\, può effettivamente trovare il suo sp
 azio di lavoro in tantissimi contesti creativi\, oltre a quelli più “cl
 assici”\, come la gestione dei lavori di ingegneria\, architettura e amb
 iti affini.\nLo speaker\, Maurizio Fiume\, regista\, sceneggiatore\, produ
 ttore\, production manager ossia cineasta (come ama definirsi)\, ci illust
 rerà proprio l’importanza di una corretta gestione dei progetti nel mon
 do del cinema. In particolare\, ci parlerà di come\, partendo da un’ide
 a cinematografica\, si affronta il processo di ideazione che porta alla sc
 eneggiatura.\nQuesto webinar\, evento gratuito e aperto a tutti\, sarà un
 ’interessante esperienza per comprendere ancora più a fondo la trasvers
 alità della disciplina del Project Management e un’introduzione a un se
 condo momento di approfondimento\, che si terrà in presenza e per un nume
 ro limitato di persone: il Workshop COME SI PRODUCE UN FILM INDIPENDENTE a
 nche con l'I.A.\n---\nIl workshop\, della durata di due giorni full immers
 ion\, organizzato dalla SOLEFILM e co-organizzato dalla VITRUVIO ACADEMY\,
  con il patrocinio del PMI Southern Italy Chapter\, è rivolto a coloro ch
 e intendono operare nel settore delle imprese di produzione cinematografic
 a indipendente in qualità di assistenti di produzione\, junior Project Ma
 nager\, junior executive producer. Il workshop è destinato a under 40 che
  vogliono realmente lavorare nella produzione cinematografica e intraprend
 ere un itinerario di conoscenza ed esperienza – full immersion – nel c
 ampo della realizzazione filmica\, finalizzato alla realizzazione di un lu
 ngometraggio. Ai partecipanti saranno prima di tutto fornite le nozioni ba
 se sul funzionamento della macchina produttiva e sul workflow di produzion
 e. Sarà illustrato il funzionamento dell’assistente virtuale EFILM STUD
 IO e dell’I.A.. Si procederà poi analizzando le diverse figure profess
 ionali e i differenti ruoli creativi\, tecnici e produttivi\, dalla nascit
 a dell’idea fino alla conclusione delle riprese. I partecipanti\, alla f
 ine\, saranno in grado di gestire tutti gli elementi utili a coadiuvare i 
 vari reparti e ad assolvere alle funzioni necessarie\, in autonomia.\nIl w
 orkshop (20 ore di alta formazione teorica e pratica) sarà finalizzato al
 la selezione da uno a tre tirocinanti da inserire sul set di un lungometra
 ggio le cui riprese cominceranno nella seconda metà di marzo 2024. \nPer 
 ulteriori informazioni (programma\, materiali\, quota di partecipazione) i
 n merito alle modalità di registrazione e partecipazione al Workshop di d
 ue giorni che si terrà il 9 e 10 marzo p.v.\, si può fare riferimento al
  seguente indirizzo e-mail:\ncome.si.scrive.un.film@gmail.com\nIl programm
 a del workshop è scaricabile al seguente link.\n---\nSPEAKER: Maurizio Fi
 ume \nLavora nel cinema come sceneggiatore\, regista e producer da 35 anni
 . È specializzato nella produzione di lungometraggi\, documentari e corto
 metraggi indipendenti. Ha creato due cooperative di produzione cinematogra
 fica la Riverfilm e la Icarowebfilm\, e due startup\, Riverstudio e Solefi
 lm\, con le quali ha prodotto i suoi lavori. È stato il fondatore di indi
 napolicinema\, la prima associazione dei cineasti napoletani\, e ha organi
 zzato il primo Forum sul Cinema Indipendente. Tiene corsi di sceneggiatura
  e produzione dal 1987.\nTra i suoi 300 partecipanti ci sono i più import
 anti professionisti campani: Paolo Sorrentino\, Ivan Cotroneo\, Stefano In
 certi\, Gianni Mastrangelo.\nTra i suoi lavori: Gorbaciof con Toni Servill
 o\, I giocatori di e con Enrico Ianniello\, Sabato\, domenica e lunedì (t
 v movie) con la regia di Paolo Sorrentino\, Santa Lucia con Renato Carpent
 ieri.\nIl suo ultimo lavoro anche come regista\, L’altro\, con Teresa Sa
 ponangelo\, ha vinto il premio come miglior corto internazionale alla 17ma
  edizione dello Spirit Film Festival (India).\nHa sviluppato il progetto d
 i Ricerca &amp\; Sviluppo Innovativo EFILM SYSTEM\, per supportare i giova
 ni talenti.\nda http://www.imdb.com/name/nm0280676/\n---\nLa partecipazion
 e all’evento (webinar) permette di acquisire 0.5 PDU di tipo Ways of Wor
 king\, 0.5 PDU di tipo Power Skills e 1 PDU di tipo Business Acumen valide
  ai fini del mantenimento delle certificazioni rilasciate dal PMI. La part
 ecipazione è aperta a tutti e gratuita\, previa iscrizione attraverso il 
 relativo link riportato sul sito del PMI Southern Italy Chapter. La regist
 razione delle PDU avverrà automaticamente entro 3 settimane dal termine d
 ell’evento previa compilazione corretta del campo PMI ID all’atto dell
 a registrazione all’evento. Si invita a prestare particolare attenzione 
 alla compilazione del campo PMI member ID\, sempre modificabile nel propri
 o profilo utente\, in quanto facoltativo.\nATTENZIONE: è possibile seguir
 e il webinar anche esclusivamente in audio via collegamento telefonico\, m
 a in questo caso non potranno essere riconosciute le PDU in quanto la piat
 taforma tecnologica non traccia la partecipazione. Le PDU verranno rilasci
 ate solo a chi segue il webinar per almeno la metà della sua durata.\nPer
  informazioni: eventi@pmi-sic.org – www.pmi-sic.org
ATTACH;FMTTYPE=image/jpeg:https://www.pmi-sic.org/wp-content/uploads/2024/
 02/Film.jpg
CATEGORIES:Webinar
LOCATION:https://us02web.zoom.us/j/89947147176?pwd=SldqVDBrNVYzbmNkRFNldm5K
 RlRVUT09
END:VEVENT
BEGIN:VTIMEZONE
TZID:Europe/Rome
X-LIC-LOCATION:Europe/Rome
BEGIN:STANDARD
DTSTART:20231029T020000
TZOFFSETFROM:+0200
TZOFFSETTO:+0100
TZNAME:CET
END:STANDARD
END:VTIMEZONE
END:VCALENDAR