BEGIN:VCALENDAR
VERSION:2.0
PRODID:-//wp-events-plugin.com//7.2.3.1//EN
BEGIN:VEVENT
UID:15@pmi-sic.org
DTSTART;TZID=Europe/Rome:20211214T163000
DTEND;TZID=Europe/Rome:20211214T183000
DTSTAMP:20211206T141321Z
URL:https://www.pmi-sic.org/eventi/il-project-management-per-il-finanziame
 nto-e-la-gestione-dei-progetti-europei-le-buone-pratiche-e-gli-standard-pm
 i-partecipazione-da-remoto/
SUMMARY:Il project management per il finanziamento e la gestione dei proget
 ti europei: le buone pratiche e gli Standard PMI (partecipazione da remoto
 )
DESCRIPTION:Tra le sfide che si presentano alle piccole e medie imprese ita
 liane nei prossimi mesi e nei prossimi anni ci sono quelle legate alla cap
 acità di sfruttare le opportunità offerte dal PNRR. Opportunità che pot
 ranno essere colte con maggiore efficacia se le imprese sapranno gestire a
 deguatamente i propri progetti. L’evento ideato nell’ambito del proget
 to SMILE-PM (Small and Medium sized Innovators and LEaders for Project Man
 agement) nasce appunto dalla volontà del PMI Northern Italy Chapter e del
  PMI Southern Italy Chapter di contribuire alla ripresa del Paese dopo la 
 pandemia con un’iniziativa indirizzata proprio alle piccole e medie impr
 ese.\n\nIl workshop\, organizzato in collaborazione con il CNR\, tratterà
  il tema dell’adozione delle buone pratiche di project management per ch
 i formula una proposta su un bando europeo e gestisce progetti finanziati 
 con fondi europei. Le diverse fasi del ciclo di vita dei “progetti europ
 ei” possono trarre notevole vantaggio dall’approccio\, dalle metodolog
 ie e dai tool di project management\, migliorando sia il “project design
 ” che la successiva implementazione e\, di conseguenza\, i risultati e l
 ’impatto del progetto. Un adeguato project design e un dettagliato “pr
 oject management plan”\, elaborato secondo standard internazionalmente r
 iconosciuti\, conferiscono infatti alla proposta\, caratteristiche favorev
 oli a una buona valutazione e consentono al Project Manager una gestione e
 fficace del progetto.  Gli Standard e le Guide del PMI (in particolare le
  PMBOK®Guide 6th e 7th Edition)\, costituiscono dunque\, se opportunament
 e personalizzati\, un indispensabile supporto al lavoro del Project Manage
 r nei progetti finanziati.\n\nL’evento includerà la testimonianza di al
 cuni membri del team di autori del libro “Project management e progetti 
 europei - Sinergie\, buone pratiche\, esperienze”\, di recentissima usci
 ta. Il libro tratta proprio il tema dell’applicazione delle buone pratic
 he del project management nei progetti finanziati dall’Unione europea (
 “europrogetti”)\, costituisce un manuale pratico per i Project Manager
  impegnati in tale ambito e ha la sua origine nel lavoro del gruppo dei Ch
 apter italiani del PMI che negli anni 2015-2018 ha approfondito il tema.\n
 \nCome detto\, l’azione proposta nell’ambito del Progetto SMILE-PM sar
 à rivolta non solo al singolo professionista ma anche all’impresa\, con
  particolare riferimento alle piccole e medie imprese innovative che gesti
 ranno progetti finanziati\, così come a organismi di ricerca e ad altri a
 ttori del sistema dell’innovazione. Alle tradizionali attività di “En
 ablement” del singolo Project Manager\, il PMI suggerirà infatti di int
 raprendere azioni di “Advocacy” verso le organizzazioni (Business\, Go
 vernment e Academic). Caratteristica innovativa del progetto SMILE-PM sar
 à proprio nell’“advocacy” volta ad accrescere presso le Small and M
 edium Sized Enterprise\, la awareness dei vantaggi dell’adozione di prat
 iche mature di gestione dei progetti e della necessità di un ’”Enable
 ment” dei propri Project Manager attraverso i servizi e il network del P
 MI e del PMI-SIC.\n\n&nbsp\;\n\nAgenda\n\n16:30 Saluti del Direttore CNR I
 SMED Prof. Salvatore Capasso\n\n16:40 Saluti del PMI-SIC Ing. Edoardo Grim
 aldi\n\n16:50- 17:10 Ing. Nicola Fantini\n\n17:10 -17:50 Ing.  Andrea Inn
 ocenti &amp\; Ing. Marcello Traversi “Il Project management per il finan
 ziamento e la gestione dei progetti europei\n\n17:50 - 18:10 Testimonianza
  Aziendale\, Ing. Sergio Cotecchia\, Protom\n\n18:10 - 18:30 Discussione\n
 \nCoordina ing. Enrico Viceconte (PMI-SIC &amp\; Associato CNR ISMED)\n\n&
 nbsp\;\n\nPer ulteriori informazioni\, si rimanda alla locandina dell'even
 to.\n\n&nbsp\;\n\nLa partecipazione all’evento è aperta a tutti e gratu
 ita\, previa iscrizione attraverso il relativo link riportato sul sito del
  PMI Southern Italy Chapter e permette di acquisire 1 PDU di tipo Technica
 l e 0\,5 PDU di tipo Strategic valide ai fini del mantenimento delle certi
 ficazioni rilasciate dal PMI. Per i soci PMI-SIC\, laregistrazione delle P
 DU sarà gratuita e avverrà automaticamente entro 2 settimane dal termine
  dell'evento previa compilazione corretta del campo PMI ID all'atto di reg
 istrazione all’evento\, mentre per i non soci avrà un costo di 10 Euro 
 + IVA. Si invita a prestare particolare attenzione alla compilazione del c
 ampo PMI member ID\, sempre modificabile nel proprio profilo utente\, in q
 uanto facoltativo.
CATEGORIES:Seminari e Workshop
LOCATION:https://us02web.zoom.us/j/88346280846?pwd=Nmk3MGZsbTNBc2piVGgwc2FL
 ZTlkUT09
END:VEVENT
BEGIN:VTIMEZONE
TZID:Europe/Rome
X-LIC-LOCATION:Europe/Rome
BEGIN:STANDARD
DTSTART:20211031T020000
TZOFFSETFROM:+0200
TZOFFSETTO:+0100
TZNAME:CET
END:STANDARD
END:VTIMEZONE
END:VCALENDAR