BEGIN:VCALENDAR
VERSION:2.0
PRODID:-//wp-events-plugin.com//7.2.3.1//EN
BEGIN:VEVENT
UID:105@pmi-sic.org
DTSTART;TZID=Europe/Rome:20231011T183000
DTEND;TZID=Europe/Rome:20231011T193000
DTSTAMP:20231002T145253Z
URL:https://www.pmi-sic.org/eventi/il-paradosso-di-abilene-e-come-allontan
 arsi-dal-waterfall/
SUMMARY:Il Paradosso di Abilene e come allontanarsi dal Waterfall
DESCRIPTION:\nTrasformazioni di successo richiedono l’adozione di nuovi m
 odi di pensare\, nuovi modi di lavorare e nuove tecnologie\, ma soprattutt
 o nel tempo non è mai ovvio cosa devi mantenere\, cosa devi eliminare e c
 osa devi adottare: le risposte si evolvono nel tempo man mano che la tua s
 ituazione evolve.\n\nLe trasformazioni sono viaggi\, non destinazioni. Ci 
 vorrà tempo\, nella maggior parte dei casi anni anziché mesi\, e impegno
  per avere successo.\n\nIn questo webinar tratteremo i primi passi necessa
 ri per passare da un team che lavora prevalentemente in maniera seriale\, 
 ad un team che abbraccia i principi agili con i consigli del nostro fedele
  Disciplined Agile Toolkit.\n\n---\n\nSpeaker\n\nFrancesco Puccillo (Membr
 o Comitato Agile/DA PMI-SIC)\nLorenzo Vetrano (Senior Scrum Master and Agi
 le Coach)\n\n\n&nbsp\;\n\n\n---\n\nLa partecipazione all’evento permette
  di acquisire 0\,5 PDU di tipo Ways of Working e 0\,5 PDU di tipo Business
  Acumen valida ai fini del mantenimento delle certificazioni rilasciate da
 l PMI.\nLa partecipazione è aperta a tutti e gratuita\, previa iscrizione
  attraverso il relativo link riportato sul sito del PMI Southern Italy Cha
 pter. La registrazione delle PDU avverrà automaticamente entro 3 settiman
 e dal termine dell’evento previa compilazione corretta del campo PMI ID 
 all’atto della registrazione all’evento. Si invita a prestare particol
 are attenzione alla compilazione del campo PMI member ID\, sempre modifica
 bile nel proprio profilo utente\, in quanto facoltativo.\nATTENZIONE: è p
 ossibile seguire il webinar anche esclusivamente in audio via collegamento
  telefonico\, ma in questo caso non potranno essere riconosciute le PDU in
  quanto la piattaforma tecnologica non traccia la partecipazione. Le PDU v
 erranno rilasciate solo a chi segue il webinar per almeno la metà della s
 ua durata.  Per informazioni: eventi@pmi-sic.org – www.pmi-sic.org\n\n
ATTACH;FMTTYPE=image/jpeg:https://www.pmi-sic.org/wp-content/uploads/2023/
 09/images.jpeg
CATEGORIES:Webinar
LOCATION:https://us02web.zoom.us/j/89080494104?pwd=Z2RDYmNJak5WVVRSY2k4VWlL
 cmFVZz09
END:VEVENT
BEGIN:VTIMEZONE
TZID:Europe/Rome
X-LIC-LOCATION:Europe/Rome
BEGIN:DAYLIGHT
DTSTART:20230326T030000
TZOFFSETFROM:+0100
TZOFFSETTO:+0200
TZNAME:CEST
END:DAYLIGHT
END:VTIMEZONE
END:VCALENDAR