BEGIN:VCALENDAR
VERSION:2.0
PRODID:-//wp-events-plugin.com//7.2.3.1//EN
BEGIN:VEVENT
UID:90@pmi-sic.org
DTSTART;TZID=Europe/Rome:20230505T090000
DTEND;TZID=Europe/Rome:20230505T170000
DTSTAMP:20230425T061025Z
URL:https://www.pmi-sic.org/eventi/gufpoi-isma-1-evento-metrico-2023-1em20
 23/
SUMMARY:GUFPI-ISMA 1° Evento Metrico 2023 (1EM2023)
DESCRIPTION:Anche quest'anno il PMI Southern Italy Chapter è lieto di patr
 ocinare e partecipare al 1° Evento Metrico 2023 organizzato dal GUFPI-ISM
 A\, associazione italiana che dal 1990 promuove la diffusione e lo svilupp
 o delle tecniche di misurazione del software. L'evento si terrà il prossi
 mo venerdì 5 maggio in presenza a ROMA presso il Centro Congressi Frenta
 ni e in collegamento remoto via ZOOM dalle 09:00 alle 17:00.\nPROGRAMMA D
 ELLA GIORNATA\n\n\n\n\n08:30\n\nApertura segreteria e registrazione partec
 ipanti\n\n\n\n09:00 09:30\n\n Assemblea ORDINARIA dei Soci GUFPI-ISMA\n\n
 \n\n10:00 17:00\nEvento metrico:\n\n\n\n--\nWhat’s the right EP type? Le
 t’s play with the Processing Logic table…(L.Buglione – DXC Technolog
 y)\n\n\n\n--\nZero Function Point Projects (M. Misra\, C. Ferrero\, F. Di 
 Cola – IFPUG)\n\n\n\n--\nE’ facile iniziare a misurare (P.Billia – N
 TT Data) \n\n\n\n--\nDalla creatività all’innovazione: quando il fluss
 o (Flow) incontra il metodo (TRIZ) (F. Spadera\, PMI-SIC\; F.Sacerdoti\, 
 Università Federico II)\n\n\n\n--\nL'ISO/IEC 25000 SQuaRE: dall'IT tradiz
 ionale all'Intelligenza Artificiale (D.Natale – UNINFO) \n\n\n\n--\nVal
 utazione di un asset applicativo (G. Lanza – GUFPI-ISMA)\n\n\n\n--\nRefr
 aming Metric Methods (A.Carbone) \n\n\n\n--\nTendenze del mercato dello s
 viluppo software nel 2023 (tecnologie\, fornitori\, ...): più produttivo\
 , più economico\, migliore (M.Sabba\, J.Gomez – LedaMC) \n\n\n\n--\nSe
 mplicità e leggerezza di un metodo di misura funzionale: minaccia od oppo
 rtunità per il business? (A. Locoro\, L. Lavazza - Univ. Insubria / R. Me
 li\, DPO) \n\n\n\n&nbsp\;\n\nPer maggiori dettagli sul programma e sulle 
 modalità di partecipazione\, riferirsi al seguente .\n\nLa partecipazione
  all’evento dà diritto a 1 CEC IFPUG e 5 PDU\n\nPer informazioni:\ne
 venti@pmi-sic.org\nwww.pmi-sic.org
ATTACH;FMTTYPE=image/jpeg:https://www.pmi-sic.org/wp-content/uploads/2023/
 04/eventometrico.png
CATEGORIES:Convegno
LOCATION:Centro Congressi Frentani - Roma\, Centro Congressi Frentani (Via 
 dei Frentani\, 4 - 00185 Roma)\, Roma\, Roma\, Italia
X-APPLE-STRUCTURED-LOCATION;VALUE=URI;X-ADDRESS=Centro Congressi Frentani (
 Via dei Frentani\, 4 - 00185 Roma)\, Roma\, Roma\, Italia;X-APPLE-RADIUS=1
 00;X-TITLE=Centro Congressi Frentani - Roma:geo:0,0
END:VEVENT
BEGIN:VTIMEZONE
TZID:Europe/Rome
X-LIC-LOCATION:Europe/Rome
BEGIN:DAYLIGHT
DTSTART:20230326T030000
TZOFFSETFROM:+0100
TZOFFSETTO:+0200
TZNAME:CEST
END:DAYLIGHT
END:VTIMEZONE
END:VCALENDAR