BEGIN:VCALENDAR
VERSION:2.0
PRODID:-//wp-events-plugin.com//7.2.3.1//EN
BEGIN:VEVENT
UID:170@pmi-sic.org
DTSTART;TZID=Europe/Rome:20250613T090000
DTEND;TZID=Europe/Rome:20250613T180000
DTSTAMP:20250608T065713Z
URL:https://www.pmi-sic.org/eventi/forum-pmi-2025/
SUMMARY:Forum PMI 2025
DESCRIPTION:La nostra vita personale e professionale è sempre più ricca d
 i progetti e al centro di questi\, che riguardino il raggiungimento di pic
 coli traguardi o la realizzazione di grandi imprese\, c’è sempre il fat
 tore “Human”\, proiettato in un mondo nel quale intelligenza artificia
 le\, realtà virtuale e tecnologie emergenti stanno pervadendo gran parte 
 di ciò che ci circonda.\n\nIn questa nuova era\, capacità e competenze p
 ossono essere maggiormente valorizzate. Donne e uomini di talento continue
 ranno a fare la differenza\, anche per il successo dei progetti.\n\nNe par
 leremo nell’ottava edizione del Forum Nazionale di Project Management\, 
 attraverso interventi e testimonianze espressione di diversi ambiti della 
 società.
ATTACH;FMTTYPE=image/jpeg:https://www.pmi-sic.org/wp-content/uploads/2024/
 11/hfactor.png
CATEGORIES:Forum
LOCATION:Villa Romanazzi Carducci\, Via Giuseppe Capruzzi\, 326\, Bari\, Ba
 \, 70124\, Italia
GEO:41.116289;16.859624
X-APPLE-STRUCTURED-LOCATION;VALUE=URI;X-ADDRESS=Via Giuseppe Capruzzi\, 326
 \, Bari\, Ba\, 70124\, Italia;X-APPLE-RADIUS=100;X-TITLE=Villa Romanazzi C
 arducci:geo:41.116289,16.859624
END:VEVENT
BEGIN:VTIMEZONE
TZID:Europe/Rome
X-LIC-LOCATION:Europe/Rome
BEGIN:DAYLIGHT
DTSTART:20250330T030000
TZOFFSETFROM:+0100
TZOFFSETTO:+0200
TZNAME:CEST
END:DAYLIGHT
END:VTIMEZONE
END:VCALENDAR