BEGIN:VCALENDAR
VERSION:2.0
PRODID:-//wp-events-plugin.com//7.2.3.1//EN
BEGIN:VEVENT
UID:108@pmi-sic.org
DTSTART;TZID=Europe/Rome:20231019T180000
DTEND;TZID=Europe/Rome:20231019T200000
DTSTAMP:20231010T060557Z
URL:https://www.pmi-sic.org/eventi/dalla-gestione-delle-risorse-alla-valor
 izzazione-delle-risorse-una-storia-di-straordinaria-ordinarieta/
SUMMARY:Dalla gestione delle risorse alla valorizzazione delle risorse: una
  storia di straordinaria ordinarietà
DESCRIPTION:L'evento in presenza si terrà presso la Fattoria Sociale Fuori
  di Zucca\, Via Cangemi\, 81030 Lusciano CE
ATTACH;FMTTYPE=image/jpeg:https://www.pmi-sic.org/wp-content/uploads/2023/
 09/Fuori-di-zucca-1.png
CATEGORIES:Seminari e Workshop,Webinar
LOCATION:https://us02web.zoom.us/j/82062024243?pwd=OHpFQWZlb3h2M1dFY3FXUEdC
 VHJIdz09
END:VEVENT
BEGIN:VTIMEZONE
TZID:Europe/Rome
X-LIC-LOCATION:Europe/Rome
BEGIN:DAYLIGHT
DTSTART:20230326T030000
TZOFFSETFROM:+0100
TZOFFSETTO:+0200
TZNAME:CEST
END:DAYLIGHT
END:VTIMEZONE
END:VCALENDAR