BEGIN:VCALENDAR
VERSION:2.0
PRODID:-//wp-events-plugin.com//7.2.3.1//EN
BEGIN:VEVENT
UID:75@pmi-sic.org
DTSTART;TZID=Europe/Rome:20220610T190000
DTEND;TZID=Europe/Rome:20220610T210000
DTSTAMP:20230107T144400Z
URL:https://www.pmi-sic.org/eventi/aperibranch-sicilia-le-esigenze-del-ter
 ritorio-10-giugno-2022-ore-1900/
SUMMARY:AperiBranch Sicilia: le esigenze del territorio\, 10 giugno 2022 
 – ore 19:00
DESCRIPTION:Vogliamo ricordare alle nostre socie e ai nostri soci siciliani
  dell’incontro in presenza di venerdì 10 giugno 2022\, che il branch Si
 cilia sta organizzando.\n\nEcco tre buone ragioni per parteciparvi:\n\nCon
 oscersi meglio e bere un aperitivo!\n\nPromuovere la diffusione dei Valori
  del PMI-SIC sul territorio\n\nQuest’estate abbiamo voglia di cominciare
  con un evento in presenza. Ci vedremo a Catania per raccontarci da vicino
 \, ascoltare le vostre proposte e raccogliere la vostra disponibilità per
  le attività del Branch.\n\nQuesto il programma dell’evento:\n\n17:45: 
 Incontro e registrazione dei partecipanti\n\n18:00: Sessione Unica\, intro
 duzione e saluti – Giorgio Platania – Responsabile branch Sicilia PMI-
 SIC\n\n18:45: Il value proposition Canvas per allineare bisogni e proposta
  di valore – Paolo Fidelbo – Direttore Sviluppo Territoriale PMI-SIC\n
 \n19:15: AperiBranch &amp\; Networking\n\n21:00: Chiusura Lavori\n\n&nbsp\
 ;\n\nCi incontreremo presso il Bar/Pasticceria Mantegna\, Viale Ruggero d
 i Lauria\, 77\, 95127 Catania\n\n&nbsp\;\n\n&nbsp\;\n\n*Il costo delle co
 nsumazioni sarà a carico dei partecipanti.
ATTACH;FMTTYPE=image/jpeg:https://www.pmi-sic.org/wp-content/uploads/2022/
 10/Unknown.jpeg
CATEGORIES:Aperibranch
END:VEVENT
BEGIN:VTIMEZONE
TZID:Europe/Rome
X-LIC-LOCATION:Europe/Rome
BEGIN:DAYLIGHT
DTSTART:20220327T030000
TZOFFSETFROM:+0100
TZOFFSETTO:+0200
TZNAME:CEST
END:DAYLIGHT
END:VTIMEZONE
END:VCALENDAR