BEGIN:VCALENDAR
VERSION:2.0
PRODID:-//wp-events-plugin.com//7.2.3.1//EN
BEGIN:VEVENT
UID:147@pmi-sic.org
DTSTART;TZID=Europe/Rome:20240523T183000
DTEND;TZID=Europe/Rome:20240523T203000
DTSTAMP:20240522T065214Z
URL:https://www.pmi-sic.org/eventi/aperibranch-puglia-pm-in-un-mondo-perfe
 tto/
SUMMARY:AperiBranch Puglia - PM in un Mondo Perfetto
DESCRIPTION:Qual è il mondo perfetto del PM? Esiste davvero?\nIl 23 maggio
  il Branch Puglia vi invita a partecipare a un aperitivo con la comunità 
 di professionisti del Project Management\, una serata frizzante condita co
 n storie di PM in salsa cocktail. Scopriremo cosa c’è dietro pregi e di
 fetti nella gestione di un progetto.\nL’evento ha l’obiettivo di condi
 videre una serie di approfondimenti su esperienze\, iniziative e problemi 
 che il PM vive quotidianamente nella gestione dei progetti nel rapporto co
 n la Direzione\, con i responsabili dei team e le risorse\, e con i client
 i.\nVerrà riesaminata brevemente la struttura e i cambiamenti introdotti 
 dal PMBOK 7 e discussi il ruolo del PM e le difficoltà che i PM si trovan
 o ad affrontare nell’applicare principi e processi di Project Management
  nel contesto organizzativo. Verranno affrontate le varie forme di leaders
 hip proprie del ruolo di project manager e come queste possono migliorare 
 le prestazioni dei team. Verranno inoltre analizzati gli approcci innovati
 vi per la valutazione delle performance nei progetti.\nL’incontro ha l
 ’obiettivo di avviare la costruzione di una comunità locale nella quale
  i project manager possano confrontarsi\, condividere esperienze\, approcc
 i e dubbi e possano trovare supporto\, suggerimenti e soluzioni per raffor
 zare il ruolo del PM e la disciplina del project management nella propria 
 organizzazione.\n---\nAgenda dell’incontro:\nOre 18:30 Benvenuto e regis
 trazione partecipanti\nOre 18:45 PM in un mondo perfetto\, Antonio Caforio
 \nOre 19:05 Leadership del PM\, Alessandro Ingrosso\nOre 19:25 People perf
 ormance analytics nei progetti\, Alessandro Margherita\nOre 19:45 Aperitiv
 o\nL’aperitivo è gratuito per i soci del PMI-SIC. Al resto dei partecip
 anti è richiesto un contributo di 7 euro.\n---\n\nSPEAKER\nAntonio Cafori
 o\, PMP è un ingegnere informatico esperto in metodologie e tecnologie di
  business process management e di project management. Per 15 anni ha svolt
 o attività di ricerca in collaborazione con il Core Lab dell’Universit
 à del Salento per il quale ha partecipato a numerosi progetti in ambito n
 azionale e europeo per lo sviluppo di metodologie e sistemi per il Knowled
 ge Management e il Business Process Management. Da più di 10 anni si occu
 pa del management e del coordinamento tecnico di progetti di aziende priva
 te e pubbliche per la realizzazione di piattaforme ICT in diversi settori 
 industriali. E' PMP dal 2012\, iscritto all’Associazione Project Managem
 ent Institute e al Chapter del Sud Italia (www.pmi-sic.org)\, con il quale
  collabora alla crescita della cultura del project management.\nAlessandro
  Ingrosso\, PMP – Responsabile branch Puglia è docente nei master exec
 utive in project management presso la Luiss Business School. È formatore 
 e Senior Agile Coach\, si occupa di innovazione nell'ambito di approcci e 
 strumenti per la gestione di progetti complessi. Facilita e supporta le or
 ganizzazioni nei progetti di Agile Transformation aiutando a mettere in pr
 atica i valori e i principi del mindset Agile e a sperimentare l'uso di me
 todologie agili.\nProf. Alessandro Margherita\, Università del Salento è
  Professore Associato di Ingegneria Economico-Gestionale presso l'Universi
 tà del Salento\, è anche Research Partner presso l'Università Federale 
 di Santa Catarina in Brasile. La sua ricerca si concentra su Trasformazion
 e Digitale\, Imprenditorialità\, Gestione delle Emergenze e HRM con un'at
 tenzione particolare a Human Resource Analytics. Con oltre 100 articoli sc
 ientifici e 5 manuali pubblicati\, partecipa ai comitati scientifici di ri
 nomate riviste internazionali\, è membro di AICE e Innovation Manager ric
 onosciuto dal MISE. È responsabile scientifico di progetti significativi 
 come CITYBLE e HUMANWISE\, oltre a coordinare un network internazionale su
  Digital HRM e HR Analytics. Ha esperienze internazionali come visiting sc
 holar presso il MIT Sloan\, Research Affiliate presso il Center for Collec
 tive Intelligence del MIT Sloan e Visiting Researcher presso la PKU - Peki
 ng University in Cina.\n---\n\n\nLa partecipazione all’evento permette d
 i acquisire 0.5 DU di tipo Ways of Working e 0.5 PDU di tipo Power Skills
  valida ai fini del mantenimento delle certificazioni rilasciate dal PMI.
  \nLa partecipazione\, soltanto in presenza\, è aperta a tutti e gratuit
 a\, previa iscrizione attraverso il relativo link riportato sul sito del P
 MI Southern Italy Chapter.\n\n\n\n\nDopo la fruizione dell’evento il par
 tecipante potrà sottomettere autonomamente la richiesta di PDU direttamen
 te nella sezione Report PDUs della propria area personale del sito del PMI
  con il PDU Claim Code che gli sarà fornito direttamente durante l’even
 to. \n\n\n\n\nPer qualsiasi richiesta di chiarimento in merito al claim d
 elle PDU si prega di inviare una email all’indirizzo certificazione@pmi
 -sic.org.\n\n\nPer informazioni: eventi@pmi-sic.org - www.pmi-sic.org
ATTACH;FMTTYPE=image/jpeg:https://www.pmi-sic.org/wp-content/uploads/2024/
 05/Mondo-perfetto.jpeg
CATEGORIES:Aperibranch Puglia
LOCATION:Mediateca Officine Cantelmo\, Viale M. de Pietro 8/a \, Lecce\, LE
 \, 73100\, Puglia\, Italia
X-APPLE-STRUCTURED-LOCATION;VALUE=URI;X-ADDRESS=Viale M. de Pietro 8/a \, L
 ecce\, LE\, 73100\, Puglia\, Italia;X-APPLE-RADIUS=100;X-TITLE=Mediateca O
 fficine Cantelmo:geo:0,0
END:VEVENT
BEGIN:VTIMEZONE
TZID:Europe/Rome
X-LIC-LOCATION:Europe/Rome
BEGIN:DAYLIGHT
DTSTART:20240331T030000
TZOFFSETFROM:+0100
TZOFFSETTO:+0200
TZNAME:CEST
END:DAYLIGHT
END:VTIMEZONE
END:VCALENDAR