BEGIN:VCALENDAR
VERSION:2.0
PRODID:-//wp-events-plugin.com//7.2.3.1//EN
BEGIN:VEVENT
UID:149@pmi-sic.org
DTSTART;TZID=Europe/Rome:20240529T180000
DTEND;TZID=Europe/Rome:20240529T200000
DTSTAMP:20240528T191901Z
URL:https://www.pmi-sic.org/eventi/aperibranch-puglia-bari-29-maggio-2024/
SUMMARY:AperiBranch Puglia – Bari 29 maggio 2024
DESCRIPTION:Siamo lieti di comunicare alle nostre socie e ai nostri soci ch
 e il prossimo mercoledì 29 maggio 2024 si terrà a Bari un incontro in pr
 esenza dei volontari e soci del Branch Puglia.\nQuesto sarà il nostro pri
 mo incontro a Bari del 2024\, un momento dal vivo per conoscersi meglio in
  un contesto informale come quello di un aperitivo. Vi racconteremo dei pr
 eparativi per l’evento del ventennale del 5 luglio.\nSarà anche l’occ
 asione per illustrare le iniziative del Branch Puglia che promuovono la di
 ffusione dei valori del PMI Southern Italy Chapter sul territorio.\nUn mom
 ento importante non soltanto per conoscere ciò che è abbiamo già progra
 mmato e che intendiamo fare ma anche per ascoltare eventuali vostre propos
 te e raccogliere la vostra disponibilità per partecipare attivamente alle
  attività del Branch.\n---\nL'incontro si terrà presso il locale-caffett
 eria L’Argenteria Via Roberto Da Bari\, 139 Bari.\n\n---\n\n*Contributo 
 partecipazione 15 euro per persona.\n\n---\n\n\nLa partecipazione\, soltan
 to in presenza\, è aperta a tutti (*il costo delle consumazioni sarà a c
 arico dei partecipanti con un contributo per la partecipazione di 15 euro 
 a persona)\, previa iscrizione attraverso il relativo link riportato sul s
 ito del PMI Southern Italy Chapter.\n\n\nPer informazioni: eventi@pmi-sic.
 org – www.pmi-sic.org
CATEGORIES:Aperibranch Puglia
LOCATION:Caffè L’Argenteria\, Via Roberto Da Bari\, 139\, Bari\, BA\, 70
 122\, Italia
X-APPLE-STRUCTURED-LOCATION;VALUE=URI;X-ADDRESS=Via Roberto Da Bari\, 139\,
  Bari\, BA\, 70122\, Italia;X-APPLE-RADIUS=100;X-TITLE=Caffè L’Argenter
 ia:geo:0,0
END:VEVENT
BEGIN:VTIMEZONE
TZID:Europe/Rome
X-LIC-LOCATION:Europe/Rome
BEGIN:DAYLIGHT
DTSTART:20240331T030000
TZOFFSETFROM:+0100
TZOFFSETTO:+0200
TZNAME:CEST
END:DAYLIGHT
END:VTIMEZONE
END:VCALENDAR